BEGIN:VCALENDAR
VERSION:2.0
PRODID:-//Baltic Wind - ECPv5.14.0.3//NONSGML v1.0//EN
CALSCALE:GREGORIAN
METHOD:PUBLISH
X-WR-CALNAME:Baltic Wind
X-ORIGINAL-URL:https://balticwind.eu
X-WR-CALDESC:Events for Baltic Wind
BEGIN:VTIMEZONE
TZID:UTC
BEGIN:STANDARD
TZOFFSETFROM:+0000
TZOFFSETTO:+0000
TZNAME:UTC
DTSTART:20240101T000000
END:STANDARD
END:VTIMEZONE
BEGIN:VEVENT
DTSTART;VALUE=DATE:20240226
DTEND;VALUE=DATE:20240229
DTSTAMP:20260422T115018
CREATED:20231219T230441Z
LAST-MODIFIED:20231219T230441Z
UID:32613-1708905600-1709164799@balticwind.eu
SUMMARY:Advances in Rotor Blades for Wind Turbines 2024
DESCRIPTION:Rotor blades are decisive in the race for lower cost of energy\, and the last years have witnessed drastic progress in structural design and manufacturing. While the industry is growing more and more mature\, there is still room for innovation. Efficient ways to optimise LCoE throughout the blade lifetime will be discussed. The conference aims to help the industry to improve  design\, production and materials to maximise power at minimum cost.\n\n\n\nMastering the Horizon:\n\nUnveiling the Path to Design mastery\, Operational Excellence and Manufacturing Efficiency for Ultra-Long Blades.\nPioneering Pathways: Optimal Design and Manufacturing Efficiency for Ultra-Long XXL Blades\, Enabling Europe’s Vision for 1\,100GW Energy Milestone.\nInnovating with Ultra-High Modulus Glass Fibers: Harnessing the Power of Advanced Materials to Shape the Future of On- and Offshore Rotor Blade Designs\, Aligning Long-Term Profitability\, Sustainability\, and Availability.\nStrategic Financial Edge: Empowering Operational Expenditure Optimization for Maximum Return\, Effectively Reducing Levelized Cost of Energy (LCOE) and Streamlining Construction Costs.\nRevolutionizing Certification Standards: Redefining Material Safety\nFactors in Accordance with IEC 61400-5\, Incorporating Novel Test Concepts to Catalyze Rotor Blade Certification Processes.\nNavigating Challenges Ahead: An In-Depth Exploration of Obstacles and Opportunities\, Guiding Industry Leaders to Navigate Efficiently Through the Complex Landscape of Ultra-Long XXL Blade Design and Manufacturing.\nElevating Energy Production: Maximizing Output and Efficiency to Propel Wind Energy Generation to New Heights\, Contributing to a Sustainable and Thriving Energy Future.
URL:https://balticwind.eu/event/advances-in-rotor-blades-for-wind-turbines-2024/
LOCATION:Bremen\, Germany
ATTACH;FMTTYPE=image/png:https://balticwind.eu/wp-content/uploads/2023/12/O4ZB9uQOzMgQEMfGfL7g1lLUS2bsTulYspcyFPqc.png
END:VEVENT
END:VCALENDAR