BEGIN:VCALENDAR
VERSION:2.0
PRODID:-//Baltic Wind - ECPv5.14.0.3//NONSGML v1.0//EN
CALSCALE:GREGORIAN
METHOD:PUBLISH
X-WR-CALNAME:Baltic Wind
X-ORIGINAL-URL:https://balticwind.eu
X-WR-CALDESC:Events for Baltic Wind
BEGIN:VTIMEZONE
TZID:UTC
BEGIN:STANDARD
TZOFFSETFROM:+0000
TZOFFSETTO:+0000
TZNAME:UTC
DTSTART:20220101T000000
END:STANDARD
END:VTIMEZONE
BEGIN:VEVENT
DTSTART;TZID=UTC:20221208T100000
DTEND;TZID=UTC:20221208T130000
DTSTAMP:20260424T022116
CREATED:20221124T105743Z
LAST-MODIFIED:20221124T110238Z
UID:21078-1670493600-1670504400@balticwind.eu
SUMMARY:Finland’s Offshore Wind Potential: Cross-border opportunities for energy independence and green transition
DESCRIPTION:The German and Danish Embassies\, the Finnish-German Chamber of Commerce\, Germany Trade and Invest together with the Finnish Wind Power Association have the pleasure of inviting you to a forum to discuss how offshore wind and cross-border cooperation in the Baltic Sea region can further energy independence\, green transition and green job creation in Finland and the region. \n9:30 Registration and Coffee\n10:00 Opening words from Minister for Trade and Developent\, Ville Skinnari \nGreetings from Denmark and Germany\nModerator: Anni Mikkonen\, CEO Finnish Wind Power Association \n10:15 Panel on “Strengthening cross-border cooperation to powering up offshore wind in the Baltic Sea region” \n\nMatias Mäkynen\, SDP\nKai Mykkänen\, Kokoomus\nAtte Harjanne\, Vihreät\nJoakim Strand\, RKP\n\n\n11:10 Panel on “Offshore wind power in the Baltic Sea basin – long-term economic benefits” \n\nAnja Frada\, Vice President\, Stragey & Business Develolment\, Energy Business\, Wärtsilä\nMatilda Machacek\, VP Offshore Development Nordics\, RWE\nLasse Sundahl\, Head of Business Development\, New Markets\, Europe\, Ørsted\nPekka Pokela\, Team Renewable Arctic Finland/Business Director\, Gaia Consulting\nAndrew Moreland\, Vice President Copenhagen Infrastructure Partners\n\n12:00 “Brown Bag Lunch” \n\n12:00 Research Director Petteri Laaksonen from LUT\n12:30 Peter Göpfert\, Director\, KfW IPEX-Bank GmbH on “offshore financing”\n\n12:00-13:00 Lunch and coffee \nPlease register by November 30 here.\nThe updated program will be published here.
URL:https://balticwind.eu/event/finlands-offshore-wind-potential-cross-border-opportunities-for-energy-independence-and-green-transition/
LOCATION:Think Corner/Tiedekulma at University of Helsinki (Yliopistonkatu 4)\, Finland
ATTACH;FMTTYPE=image/png:https://balticwind.eu/wp-content/uploads/2022/11/Screenshot-2022-11-24-at-11.59.19.png
END:VEVENT
END:VCALENDAR