BEGIN:VCALENDAR
VERSION:2.0
PRODID:-//Baltic Wind - ECPv5.14.0.3//NONSGML v1.0//EN
CALSCALE:GREGORIAN
METHOD:PUBLISH
X-WR-CALNAME:Baltic Wind
X-ORIGINAL-URL:https://balticwind.eu
X-WR-CALDESC:Events for Baltic Wind
BEGIN:VTIMEZONE
TZID:UTC
BEGIN:STANDARD
TZOFFSETFROM:+0000
TZOFFSETTO:+0000
TZNAME:UTC
DTSTART:20240101T000000
END:STANDARD
END:VTIMEZONE
BEGIN:VEVENT
DTSTART;VALUE=DATE:20240514
DTEND;VALUE=DATE:20240515
DTSTAMP:20260421T095747
CREATED:20240313T224815Z
LAST-MODIFIED:20240313T224815Z
UID:37537-1715644800-1715731199@balticwind.eu
SUMMARY:Hamburg Offshore Wind Conference 2024
DESCRIPTION:Conference outline\nOffshore Wind is playing a crucial role in the energy transition\, and picking up on Germany’s ambitious offshore wind target of achieving 70 GW by 2045\, we want to deep dive into recent developments\, challenges and actions needed to turn ambition into success. \nOne critical aspect of accelerating the deployment of offshore wind energy is an effective offshore wind auction design\, which is crucial for achieving ambitious renewable energy goals while maximizing value for governments and societies. Ensuring a sustainable\, reliable value chain to support cost efficiency\, supply chain resilience\, technology advancement and long-term commitments is equally important. \nTogether with two industry leading\, prominent panels of speakers we will zoom in on these topics and discuss various perspectives of how to move forward: \n\nCapacity builds out vs supply chain issues\nStatus up-date from new auction winners\nReview & Reflection of the auction design\nWhat does the industry need to deliver a sustainable\, reliable value chain\n\n  \nAGENDA \n 
URL:https://balticwind.eu/event/hamburg-offshore-wind-conference-2024/
LOCATION:Ameron Hotel Hafencity\, Am Sandtorkai 4\, Hamburg\, Germany
ATTACH;FMTTYPE=image/webp:https://balticwind.eu/wp-content/uploads/2024/03/20240315-hamburg-offshore-wind-2024-1000x500p.webp
END:VEVENT
END:VCALENDAR