BEGIN:VCALENDAR
VERSION:2.0
PRODID:-//Baltic Wind - ECPv5.14.0.3//NONSGML v1.0//EN
CALSCALE:GREGORIAN
METHOD:PUBLISH
X-WR-CALNAME:Baltic Wind
X-ORIGINAL-URL:https://balticwind.eu
X-WR-CALDESC:Events for Baltic Wind
BEGIN:VTIMEZONE
TZID:UTC
BEGIN:STANDARD
TZOFFSETFROM:+0000
TZOFFSETTO:+0000
TZNAME:UTC
DTSTART:20240101T000000
END:STANDARD
END:VTIMEZONE
BEGIN:VEVENT
DTSTART;VALUE=DATE:20240416
DTEND;VALUE=DATE:20240418
DTSTAMP:20260421T024916
CREATED:20240313T223034Z
LAST-MODIFIED:20240313T223034Z
UID:37514-1713225600-1713398399@balticwind.eu
SUMMARY:Kongres Energetyki Przyszłości
DESCRIPTION:Kongres Energetyki Przyszłości to inicjatywa powstała w celu stworzenia przestrzeni do wypracowania innowacyjnych i modelowych rozwiązań dla aktualnych wyzwań rynku energetycznego. KEP składa się z serii paneli\, warsztatów i dyskusji w formule round tables. O wyjątkowości Kongresu stanowią jego uczestnicy\, którymi są przedstawiciele sektora energetycznego\, dzielący się swoją bogatą wiedzą i doświadczeniem. Obecność ekspertów reprezentujących wiele dziedzin umożliwia szerokie spojrzenie na problemy i daje możliwość konstruktywnej dyskusji\, która przekłada się na realne kształtowanie przyszłości polskiej energetyki. \nTrzecia edycja wydarzenia koncentruje się na aktualnych zagadnieniach związanych z oceną ostatnich zmian legislacyjnych\, bezpieczeństwem energetycznym Polski\, oze\, transformacją przemysłu i przyszłym kształtem rynku energii.
URL:https://balticwind.eu/event/kongres-energetyki-przyszlosci/
LOCATION:Copernicus\, Bulwar Filadelfijski 11\, Toruń\, Poland
ATTACH;FMTTYPE=image/png:https://balticwind.eu/wp-content/uploads/2024/03/2024-01-08-KEP24.png
END:VEVENT
END:VCALENDAR