BEGIN:VCALENDAR
VERSION:2.0
PRODID:-//Baltic Wind - ECPv5.14.0.3//NONSGML v1.0//EN
CALSCALE:GREGORIAN
METHOD:PUBLISH
X-WR-CALNAME:Baltic Wind
X-ORIGINAL-URL:https://balticwind.eu
X-WR-CALDESC:Events for Baltic Wind
BEGIN:VTIMEZONE
TZID:UTC
BEGIN:STANDARD
TZOFFSETFROM:+0000
TZOFFSETTO:+0000
TZNAME:UTC
DTSTART:20220101T000000
END:STANDARD
END:VTIMEZONE
BEGIN:VEVENT
DTSTART;VALUE=DATE:20221213
DTEND;VALUE=DATE:20221216
DTSTAMP:20260423T233924
CREATED:20221201T150553Z
LAST-MODIFIED:20221201T150701Z
UID:21328-1670889600-1671148799@balticwind.eu
SUMMARY:The Wind Turbine Blade Manufacture 2022
DESCRIPTION:The Wind Turbine Blade Manufacture event examines the manufacturing and performance of wind blade composites for large windmills. \nThis event brings together wind energy farmers\, wind turbine producers\, blade manufacturers\, design engineers\, composites manufacturing experts\, researchers\, developers\, service engineers\, materials and equipment suppliers\, to discuss the technology and economics of producing reliable year-round wind energy\, focusing on the key component\, the rotor. \nAgenda available here
URL:https://balticwind.eu/event/the-wind-turbine-blade-manufacture-2022/
LOCATION:Düsseldorf\, Germany
ATTACH;FMTTYPE=image/jpeg:https://balticwind.eu/wp-content/uploads/2022/12/WTSBM.jpg
END:VEVENT
END:VCALENDAR