BEGIN:VCALENDAR
VERSION:2.0
PRODID:-//Baltic Wind - ECPv5.14.0.3//NONSGML v1.0//EN
CALSCALE:GREGORIAN
METHOD:PUBLISH
X-WR-CALNAME:Baltic Wind
X-ORIGINAL-URL:https://balticwind.eu
X-WR-CALDESC:Events for Baltic Wind
BEGIN:VTIMEZONE
TZID:UTC
BEGIN:STANDARD
TZOFFSETFROM:+0000
TZOFFSETTO:+0000
TZNAME:UTC
DTSTART:20230101T000000
END:STANDARD
END:VTIMEZONE
BEGIN:VEVENT
DTSTART;VALUE=DATE:20230521
DTEND;VALUE=DATE:20230523
DTSTAMP:20260426T052504
CREATED:20230504T214956Z
LAST-MODIFIED:20230504T215222Z
UID:26006-1684627200-1684799999@balticwind.eu
SUMMARY:3rd EDITION of PTMEW Offshore Wind Energy Cup
DESCRIPTION:Wind and water are our elements!\nPTMEW Offshore Wind Energy Cup is a sailing festival dedicated to representatives of the rapidly developing offshore wind energy industry in Poland. \nThe regatta initiated in 2021 was very warmly welcomed by the participants permanently entering the calendar of water sports events. \nWe invite you to participate in the 3rd edition! \nRegistration: https://offshorewindenergycup.pl/#contact-form
URL:https://balticwind.eu/event/3-edycja-ptmew-offshore-wind-energy-cup/
ATTACH;FMTTYPE=image/png:https://balticwind.eu/wp-content/uploads/2023/05/Screenshot-2023-05-04-at-23.42.51.png
END:VEVENT
END:VCALENDAR