BEGIN:VCALENDAR
VERSION:2.0
PRODID:-//Baltic Wind - ECPv5.14.0.3//NONSGML v1.0//EN
CALSCALE:GREGORIAN
METHOD:PUBLISH
X-WR-CALNAME:Baltic Wind
X-ORIGINAL-URL:https://balticwind.eu
X-WR-CALDESC:Events for Baltic Wind
BEGIN:VTIMEZONE
TZID:UTC
BEGIN:STANDARD
TZOFFSETFROM:+0000
TZOFFSETTO:+0000
TZNAME:UTC
DTSTART:20230101T000000
END:STANDARD
END:VTIMEZONE
BEGIN:VEVENT
DTSTART;VALUE=DATE:20230601
DTEND;VALUE=DATE:20230603
DTSTAMP:20260425T131113
CREATED:20230305T230127Z
LAST-MODIFIED:20230305T230127Z
UID:24570-1685577600-1685750399@balticwind.eu
SUMMARY:Renewable Estonia
DESCRIPTION:
URL:https://balticwind.eu/event/renewable-estonia/
LOCATION:Tallin\, Estonia
END:VEVENT
BEGIN:VEVENT
DTSTART;VALUE=DATE:20230601
DTEND;VALUE=DATE:20230603
DTSTAMP:20260425T131113
CREATED:20230509T210256Z
LAST-MODIFIED:20230509T210256Z
UID:26094-1685577600-1685750399@balticwind.eu
SUMMARY:Blue Economy Baltic Forum
DESCRIPTION:Blue Economy Baltic Forum is a new initiative that aims to strengthen the collaboration within the Baltic Sea Region. By bringing together relevant stakeholders\, showcasing successful initiatives and providing relevant information on funding opportunities\, Forum will support the implementation of the EU Mission “Restore our Ocean and Waters” and the creation of Baltic Ecosystem that plays a key role in achieving climate neutrality and restoring nature. \nThis is an onsite event only. Forum will be conducted in English\, we provide English-Polish translation. \nOrganizers: National Centre for Research and Development: National Contact Point for Horizon Europe Programme and NCBR Brussels Office\, together with the Marshal’s Office of the Pomeranian Voivodeship\, the Horizontal Contact Point Northern Poland and the Industry Contact Point for Intelligent and Clean Mobility. \nREGISTRATION
URL:https://balticwind.eu/event/blue-economy-baltic-forum/
ATTACH;FMTTYPE=image/jpeg:https://balticwind.eu/wp-content/uploads/2023/05/850-BlueEco_Baltic_Forum.jpg
END:VEVENT
END:VCALENDAR