BEGIN:VCALENDAR
VERSION:2.0
PRODID:-//Baltic Wind - ECPv5.14.0.3//NONSGML v1.0//EN
CALSCALE:GREGORIAN
METHOD:PUBLISH
X-WR-CALNAME:Baltic Wind
X-ORIGINAL-URL:https://balticwind.eu
X-WR-CALDESC:Events for Baltic Wind
BEGIN:VTIMEZONE
TZID:UTC
BEGIN:STANDARD
TZOFFSETFROM:+0000
TZOFFSETTO:+0000
TZNAME:UTC
DTSTART:20230101T000000
END:STANDARD
END:VTIMEZONE
BEGIN:VEVENT
DTSTART;VALUE=DATE:20230606
DTEND;VALUE=DATE:20230607
DTSTAMP:20260425T060951
CREATED:20230531T103243Z
LAST-MODIFIED:20230531T103243Z
UID:26907-1686009600-1686095999@balticwind.eu
SUMMARY:DNV Offshore Wind Financing in Poland Course: Seminar from the Local Experts
DESCRIPTION:DNV is presenting a tailored course about offshore wind energy financing with focus on the technical requirements and covering the project phases from early design to operation. \nThe reduction of greenhouse gas emissions was one of the drivers for offshore wind energy since its appearance in the early 1990s. However\, the pace of the energy transition has recently changed in the light of the fossil fuel and energy emergency seen in Europe and affecting all countries globally. The offshore wind technology offers huge chances and opportunities to build large scale assets to replace traditional power plant assets. Offshore wind is therefore seen to play a critical role in the energy transition to a cleaner energy supply\, contributing significantly to an increase in renewable power. According to DNV\, the technology can be seen as well developed and mature in the majority of the western industry nations\, but it is predicted to grow worldwide. Leading market researchers are predicting a 20 to 30 CARGA rate of growth in the coming years till 2035. Our global team of world leading experts in offshore wind and augmented by DNV’s 20+ years’ experience in this area\, this course will provide attendees the knowledge on critical elements for financing offshore wind infrastructure to succeeded with this new and promising technology. \nInteraction\nThe training will be “live” and “inter-active” meaning that participants are asked to send their questions in advance of the course but also while the course is running to be subsequently progressed in the individual sessions by our experts. The final day also offers an opportunity to have further Q&A at the end of the sessions to discuss questions with the trainers and key experts. On completion\, attendees should get a good understanding of the market\, technology and how offshore wind financing differs from other infrastructure assets with regards to the requirements and the various project phases. For more details\, see the agenda further down.  \nLearning objective “finance offshore wind training”\nYour starting point is right if you…\n• …Are curious and interested in offshore wind;\n• …Have had limited or no exposure to offshore wind in the past;\n• …Are a financial\, technical or commercial specialist or expert in a field that has potential to be used or transferred in offshore wind in the near future;\n• …Are exposed to processes or components that are associated to the financing of the asset. \nSpeakersThe course will be held utilizing classroom attendance of the core experts but also supported by a few video livestreams from our global team. The content experts and speakers are: \n\nElisabeth Purk\nPeter Frohböse\nHans Cleijne\nMichał Gronert\nMarissa Ahrens\nShantanu Batra\n\nFor whom?\nThe target group for this training are professionals from the finance sector – lenders\, investors – working in the infrastructure industry\, but also developers\, suppliers\, insurance\, OEM’s and regulators – who aims a fast learning of offshore wind technology requirements for financing.
URL:https://balticwind.eu/event/dnv-offshore-wind-financing-in-poland-course-seminar-from-the-local-experts/
ATTACH;FMTTYPE=image/png:https://balticwind.eu/wp-content/uploads/2023/05/offshore-wind-financing-poland-1000x500_tcm8-241124.png
END:VEVENT
END:VCALENDAR