BEGIN:VCALENDAR
VERSION:2.0
PRODID:-//Baltic Wind - ECPv5.14.0.3//NONSGML v1.0//EN
CALSCALE:GREGORIAN
METHOD:PUBLISH
X-WR-CALNAME:Baltic Wind
X-ORIGINAL-URL:https://balticwind.eu
X-WR-CALDESC:Events for Baltic Wind
BEGIN:VTIMEZONE
TZID:UTC
BEGIN:STANDARD
TZOFFSETFROM:+0000
TZOFFSETTO:+0000
TZNAME:UTC
DTSTART:20230101T000000
END:STANDARD
END:VTIMEZONE
BEGIN:VEVENT
DTSTART;VALUE=DATE:20230620
DTEND;VALUE=DATE:20230623
DTSTAMP:20260424T064340
CREATED:20230517T063047Z
LAST-MODIFIED:20230517T063323Z
UID:26422-1687219200-1687478399@balticwind.eu
SUMMARY:PWEA 2023 Conference
DESCRIPTION:The Polish Wind Energy Association Conference is the largest wind energy industry event in Poland as well as Central and Eastern Europe. Poland is currently facing a very serious challenge as a result of climate change\, the war in Ukraine\, the economic crisis and the inevitable energy transition. \nThe development of renewable energy sources is now Poland’s raison d’etre – especially wind energy is a solution to the problem of energy poverty\, dramatically high energy prices and Poland’s dependence on imported raw materials. According to the Polish Energy Networks\, the potential of RES indicates the possibility of producing more than 100 TWh per year of renewable energy by 2030\, which will significantly exceed 50% of Poland’s electricity demand.\nThe PWEA 2023 conference is a reflection of the key challenges – during the event\, we will try to answer the question of how the country’s energy sector will evolve in the coming years to ensure energy security\, achieve ambitious climate targets and free ourselves from fossil sources. \nThis three-day event brings together key decision-makers\, opinion leaders\, representatives of local authorities\, business and environmental associations\, the media and the entire wind industry in one place. \nSign up for the PWEA 2023 Conference – this is where energy trends are shaped!
URL:https://balticwind.eu/event/konferencja-psew-2023/
LOCATION:Hotel Narvil Conference & Spa\, ul. Czesława Miłosza 14A\, Serock\, Poland
CATEGORIES:Europe,Poland
ATTACH;FMTTYPE=image/png:https://balticwind.eu/wp-content/uploads/2023/05/Screenshot-2023-05-17-at-08.25.59.png
END:VEVENT
BEGIN:VEVENT
DTSTART;TZID=UTC:20230622T113000
DTEND;TZID=UTC:20230622T130000
DTSTAMP:20260424T064340
CREATED:20230614T123227Z
LAST-MODIFIED:20230614T123227Z
UID:27180-1687433400-1687438800@balticwind.eu
SUMMARY:EUSEW 2023: Offshore wind to tackle Europe's climate and energy security crises
DESCRIPTION:Join us for an engaging session that delves into the transformative power of EU offshore wind policies. Learn how these policies are catalysing global adoption\, combating climate change\, and strengthening energy security. Discover their role in boosting offshore wind deployment\, creating jobs\, and generating local value\, all while helping the EU meet its climate and energy goals. \nThis event brings together EU-based members of the Global Offshore Wind Alliance (GOWA) to share insights on GOWA’s ambitious strategy for accelerating offshore wind adoption worldwide. Through political mobilisation and the cultivation of a global community of practice\, GOWA aims to make a lasting impact on the renewable energy sector. \nParticipate in dynamic discussions on the commitments and actions required to harness the full potential of offshore wind energy. Reflect on the progress achieved so far and envision the path forward as we collectively work towards meeting EU targets under the Paris Agreement. Be part of this essential conversation as we unite to shape a more sustainable and prosperous future. \nRegister here
URL:https://balticwind.eu/event/eusew-2023-offshore-wind-to-tackle-europes-climate-and-energy-security-crises/
LOCATION:Charlemagne Building\, De Gasperi room\, 2nd floor
ATTACH;FMTTYPE=image/jpeg:https://balticwind.eu/wp-content/uploads/2023/06/1684828419118-1.jpeg
END:VEVENT
END:VCALENDAR