BEGIN:VCALENDAR
VERSION:2.0
PRODID:-//Baltic Wind - ECPv5.14.0.3//NONSGML v1.0//EN
CALSCALE:GREGORIAN
METHOD:PUBLISH
X-WR-CALNAME:Baltic Wind
X-ORIGINAL-URL:https://balticwind.eu
X-WR-CALDESC:Events for Baltic Wind
BEGIN:VTIMEZONE
TZID:UTC
BEGIN:STANDARD
TZOFFSETFROM:+0000
TZOFFSETTO:+0000
TZNAME:UTC
DTSTART:20240101T000000
END:STANDARD
END:VTIMEZONE
BEGIN:VEVENT
DTSTART;VALUE=DATE:20240305
DTEND;VALUE=DATE:20240307
DTSTAMP:20260423T133814
CREATED:20230628T071354Z
LAST-MODIFIED:20230628T072315Z
UID:27584-1709596800-1709769599@balticwind.eu
SUMMARY:4th Annual Floating Wind Europe
DESCRIPTION:4th Annual Floating Wind Europe 2024 the Europe leading dedicated floating offshore wind event\, will take place in Berlin\, Germany on the 5th – 6th March 2024. \nBringing together 150+ senior leaders from the global wind energy market\, this event has firmly cemented itself as a must-attend in the industry’s calendar. Exhibition spaces are filling up quickly and so too is the conference programme. Make sure you get your first-choice spot while it’s available! \nLeadvent Group brings together all sectors\, industry leaders and we relies on a network of speakers\, attendees and sponsors to make our events great! \nWhether you want to organize an event\, attend as a delegate\, a speaker\, an exhibitor or sponsor\, Leadvent Group is the place to come. \nBe part of this exciting\, strategic conference and get your expertise in front of your target audience. We have a variety of speaking\, exhibition and one-to-one meetings packages available\, So come and join like-minded experts and get involved! \nSo\, what’s in store for this event? Here’s a snapshot of the key themes we’ll be tackling. \n\nPolicies and Market Outlook\nDeveloping Port Infrastructure\nTechnology Innovation and Cost Reduction Pathways\nFuture Engagement Opportunities\nHow can Floating Wind help Europe’s Energy Transition?\nKey Learnings from the Largest Floating Wind Project\nOperations & Maintenance\nMooring\, Anchoring and Cable challenges\nmore…….
URL:https://balticwind.eu/event/4th-annual-floating-wind-europe/
LOCATION:Berlin\, Berlin\, Germany
ATTACH;FMTTYPE=image/jpeg:https://balticwind.eu/wp-content/uploads/2023/06/unnamed-2.jpg
END:VEVENT
BEGIN:VEVENT
DTSTART;VALUE=DATE:20240305
DTEND;VALUE=DATE:20240307
DTSTAMP:20260423T133814
CREATED:20240306T075439Z
LAST-MODIFIED:20240306T075439Z
UID:37178-1709596800-1709769599@balticwind.eu
SUMMARY:2. education careers fair EDU OFFSHORE WIND
DESCRIPTION:EDU OFFSHORE WIND 2024 is the only event in Europe that brings the growing green energy job market in Poland closer. \n2. editon of EDU OFFSHORE WIND – 100 exhibitors from the innovative green energy industry and more than 8\,000 young people visiting the fair. \nThe school students are already taking part in continuation of the education programme during which we prepare them for the final event at the AmberExpo hall in Gdansk. \nAll visitors are invited to the Pomeranian Offshore Platform Conference\, a unique event – a part of the EDU OFFSHORE WIND 2024 Education Careers Fair. \nJoin us! Discover the potential of offshore wind energy and be part of important discussions shaping the future of our planet. Registration is mandatory. \nOnline registration
URL:https://balticwind.eu/event/2-education-careers-fair-edu-offshore-wind/
LOCATION:AmberExpo hall\, Gdańsk\, Poland
ATTACH;FMTTYPE=image/png:https://balticwind.eu/wp-content/uploads/2024/03/banery_EOW24_1500x954-1.png
END:VEVENT
END:VCALENDAR