BEGIN:VCALENDAR
VERSION:2.0
PRODID:-//Baltic Wind - ECPv5.14.0.3//NONSGML v1.0//EN
CALSCALE:GREGORIAN
METHOD:PUBLISH
X-WR-CALNAME:Baltic Wind
X-ORIGINAL-URL:https://balticwind.eu
X-WR-CALDESC:Events for Baltic Wind
BEGIN:VTIMEZONE
TZID:UTC
BEGIN:STANDARD
TZOFFSETFROM:+0000
TZOFFSETTO:+0000
TZNAME:UTC
DTSTART:20240101T000000
END:STANDARD
END:VTIMEZONE
BEGIN:VEVENT
DTSTART;VALUE=DATE:20240311
DTEND;VALUE=DATE:20240313
DTSTAMP:20260423T204856
CREATED:20240212T205246Z
LAST-MODIFIED:20240212T205246Z
UID:36790-1710115200-1710287999@balticwind.eu
SUMMARY:Konferencja Offshore Wind- Ryzyko\, Bezpieczeństwo\, Finansowanie
DESCRIPTION:08:45 – 09:30 \nRejestracja gości \n09:30 – 09:45 \nPowitanie gości Otwarcie konferencji \nMarcin Ślotała – Prezes Zarządu\, MJM Holdings\, Joanna Koselska – Członek Zarządu\, Attis Broker \n09:45 – 10:00 \nPrezentacja \nPotencjał ubezpieczeniowy rynku Offshore Wind w Polsce i krajach akwenu Morza Bałtyckiego \nJoanna Koselska – Członek Zarządu\, Attis Broker \n10:00 – 11:00 \nPrezentacja \nWyzwania związane z budowaniem łańcucha dostaw dla sektora Offshore Wind w Polsce – wprowadzenie \nJakub Budzyński – Prezes Zarządu\, Polska Izba Morskiej Energetyki Wiatrowej \n11:00 – 11:20 \nPrzerwa kawowa \n11:20 – 12:35 \nPanel I \nOtoczenie ekonomiczne inwestycji – kryteria bankowalności i ubezpieczenia projektów dla Deweloperów \nEwa Kruchelska – Wiceprzewodnicząca Rady Nadzorczej\, CRIST \n12:35 – 13:00 \nPrezentacja \nWpływ kultury bezpieczeństwa pracy na koszty ubezpieczenia \nArtur Ambrożewicz – Prezes Zarządu\, Vulcan Training & Consultancy / Alfred Korycki – Dyrektor Działu Likwidacji Szkód\, Attis Broker \n13:00 – 14:00 \nPrzerwa lunchowa \n14:00 – 15:00 \nPanel II \n“Ryzykowna” infrastruktura przesyłowa – kable podmorskie i lądowe \nPiotr Żeglarski – Business Development Manager\, Seaway 7 \n15:15 – 15:30 \nPrzerwa kawowa \n15:30 – 16:45 \nPanel III \nWyzwania inwestycyjne w świetle zmienności warunków ekonomicznych i niepewności łańcucha dostaw \nMaciej Styjecki – Prezes Zarządu\, ASE Offshore \n16:45 – 17:00 \nPrzerwa kawowa \n17:00 – 18:00 \nPanel IV \nBezpieczeństwo dna morskiego – UXO\, wraki\, broń chemiczna \nJanusz Czajkowski – Director Engineering Offshore Wind\, Ramboll Polska \n18:00 – 20:00 \nPrzerwa \n20:00 – 02:00 \nUroczysta gala \n  \n \n\n09:30 – 10:00 \nKawa \n10:00 – 11:15 \nPanel V \nWymogi kontraktowe dla dostawców niższego rzędu. Prekwalifikacja finansowa i ubezpieczeniowa Generalnych Wykonawców (EPCI) \nJakub Budzyński – Prezes Zarządu\, Polska Izba Morskiej Energetyki Wiatrowej \n11:15 – 11:35 \nPrzerwa kawowa \n11:35 – 12:50 \nPanel VI \nSpecjalistyczne konstrukcje portowe – hydrotechnika dla MEW \nMichał Śmigielski – Prezes Zarządu\, Morska Agencja Gdynia \n12:50 – 13:10 \nPrzerwa kawowa \n13:10 – 14:25 \nPanel VII \nCyberbezpieczna infrastruktura krytyczna – czy to możliwe? \nMariola Radłowska – Dyrektor Działu Klienta Kluczowego\, Attis Broker \n14:25 – 15:30 \nLunch
URL:https://balticwind.eu/event/konferencja-offshore-wind-ryzyko-bezpieczenstwo-finansowanie-2/
LOCATION:Radisson Blu\, Sopot\, Poland
ATTACH;FMTTYPE=image/jpeg:https://balticwind.eu/wp-content/uploads/2024/02/1-scaled.jpg
END:VEVENT
END:VCALENDAR